BEGIN:VCALENDAR
VERSION:2.0
PRODID:-//Ottumwa Public Library - ECPv6.15.20//NONSGML v1.0//EN
CALSCALE:GREGORIAN
METHOD:PUBLISH
X-ORIGINAL-URL:https://ottumwapubliclibrary.org
X-WR-CALDESC:Events for Ottumwa Public Library
REFRESH-INTERVAL;VALUE=DURATION:PT1H
X-Robots-Tag:noindex
X-PUBLISHED-TTL:PT1H
BEGIN:VTIMEZONE
TZID:America/Chicago
BEGIN:DAYLIGHT
TZOFFSETFROM:-0600
TZOFFSETTO:-0500
TZNAME:CDT
DTSTART:20260308T080000
END:DAYLIGHT
BEGIN:STANDARD
TZOFFSETFROM:-0500
TZOFFSETTO:-0600
TZNAME:CST
DTSTART:20261101T070000
END:STANDARD
BEGIN:DAYLIGHT
TZOFFSETFROM:-0600
TZOFFSETTO:-0500
TZNAME:CDT
DTSTART:20270314T080000
END:DAYLIGHT
BEGIN:STANDARD
TZOFFSETFROM:-0500
TZOFFSETTO:-0600
TZNAME:CST
DTSTART:20271107T070000
END:STANDARD
BEGIN:DAYLIGHT
TZOFFSETFROM:-0600
TZOFFSETTO:-0500
TZNAME:CDT
DTSTART:20280312T080000
END:DAYLIGHT
BEGIN:STANDARD
TZOFFSETFROM:-0500
TZOFFSETTO:-0600
TZNAME:CST
DTSTART:20281105T070000
END:STANDARD
END:VTIMEZONE
BEGIN:VEVENT
DTSTART;TZID=America/Chicago:20271119T100000
DTEND;TZID=America/Chicago:20271119T110000
DTSTAMP:20260421T054729
CREATED:20260311T161917Z
LAST-MODIFIED:20260421T103405Z
UID:31077-1826618400-1826622000@ottumwapubliclibrary.org
SUMMARY:Preschool Storytime
DESCRIPTION:Join us for storytime where we’ll be reading stories\, singing\, rhyming\, and doing a craft. This storytime is aimed at children aged 3-5 but older or younger children are welcome.
URL:https://ottumwapubliclibrary.org/event/preschool-storytime-124/
END:VEVENT
BEGIN:VEVENT
DTSTART;TZID=America/Chicago:20271124T100000
DTEND;TZID=America/Chicago:20271124T110000
DTSTAMP:20260421T054729
CREATED:20260311T231953Z
LAST-MODIFIED:20260421T103405Z
UID:31085-1827050400-1827054000@ottumwapubliclibrary.org
SUMMARY:Songs and Stories
DESCRIPTION:Join us every Wednesday at 10:00AM for songs\, rhymes\, singing and dancing! This storytime is aimed at kids 0-4 with a caregiver\, but all children are welcome.
URL:https://ottumwapubliclibrary.org/event/songs-and-stories-235/
END:VEVENT
BEGIN:VEVENT
DTSTART;TZID=America/Chicago:20271125T173000
DTEND;TZID=America/Chicago:20271125T183000
DTSTAMP:20260421T054729
CREATED:20260413T163410Z
LAST-MODIFIED:20260421T103406Z
UID:32802-1827163800-1827167400@ottumwapubliclibrary.org
SUMMARY:Nonfiction Book Club
DESCRIPTION:A book club focusing discussion of non-fiction works.
URL:https://ottumwapubliclibrary.org/event/nonfiction-book-club-48/
END:VEVENT
BEGIN:VEVENT
DTSTART;TZID=America/Chicago:20271126T100000
DTEND;TZID=America/Chicago:20271126T110000
DTSTAMP:20260421T054729
CREATED:20260413T170402Z
LAST-MODIFIED:20260421T103406Z
UID:32805-1827223200-1827226800@ottumwapubliclibrary.org
SUMMARY:Preschool Storytime
DESCRIPTION:Join us for storytime where we’ll be reading stories\, singing\, rhyming\, and doing a craft. This storytime is aimed at children aged 3-5 but older or younger children are welcome.
URL:https://ottumwapubliclibrary.org/event/preschool-storytime-125/
END:VEVENT
BEGIN:VEVENT
DTSTART;VALUE=DATE:20271201
DTEND;VALUE=DATE:20271202
DTSTAMP:20260421T054729
CREATED:20260414T230500Z
LAST-MODIFIED:20260421T103406Z
UID:32980-1827619200-1827705599@ottumwapubliclibrary.org
SUMMARY:Adult Take & Make Craft Giveaway
DESCRIPTION:Our next Adult Take and Make Craft give away is today! Drop by anytime today to pick up a craft bag kit\, limit two per patron while supplies last.
URL:https://ottumwapubliclibrary.org/event/adult-take-make-craft-giveaway-86/
END:VEVENT
BEGIN:VEVENT
DTSTART;TZID=America/Chicago:20271201T100000
DTEND;TZID=America/Chicago:20271201T110000
DTSTAMP:20260421T054729
CREATED:20260414T231918Z
LAST-MODIFIED:20260421T103406Z
UID:32982-1827655200-1827658800@ottumwapubliclibrary.org
SUMMARY:Songs and Stories
DESCRIPTION:Join us every Wednesday at 10:00AM for songs\, rhymes\, singing and dancing! This storytime is aimed at kids 0-4 with a caregiver\, but all children are welcome.
URL:https://ottumwapubliclibrary.org/event/songs-and-stories-188/
END:VEVENT
BEGIN:VEVENT
DTSTART;TZID=America/Chicago:20271203T100000
DTEND;TZID=America/Chicago:20271203T110000
DTSTAMP:20260421T054729
CREATED:20260415T000403Z
LAST-MODIFIED:20260421T103406Z
UID:32986-1827828000-1827831600@ottumwapubliclibrary.org
SUMMARY:Preschool Storytime
DESCRIPTION:Join us for storytime where we’ll be reading stories\, singing\, rhyming\, and doing a craft. This storytime is aimed at children aged 3-5 but older or younger children are welcome.
URL:https://ottumwapubliclibrary.org/event/preschool-storytime-126/
END:VEVENT
BEGIN:VEVENT
DTSTART;TZID=America/Chicago:20271208T100000
DTEND;TZID=America/Chicago:20271208T110000
DTSTAMP:20260421T054729
CREATED:20260415T160412Z
LAST-MODIFIED:20260421T103406Z
UID:33051-1828260000-1828263600@ottumwapubliclibrary.org
SUMMARY:Songs and Stories
DESCRIPTION:Join us every Wednesday at 10:00AM for songs\, rhymes\, singing and dancing! This storytime is aimed at kids 0-4 with a caregiver\, but all children are welcome.
URL:https://ottumwapubliclibrary.org/event/songs-and-stories-236/
END:VEVENT
BEGIN:VEVENT
DTSTART;TZID=America/Chicago:20271208T163000
DTEND;TZID=America/Chicago:20271208T173000
DTSTAMP:20260421T054729
CREATED:20260415T220447Z
LAST-MODIFIED:20260421T103406Z
UID:33076-1828283400-1828287000@ottumwapubliclibrary.org
SUMMARY:Reader's Ink Book Club
DESCRIPTION:We read a new book each month and discuss together on the 2nd Wednesday of the month at the Ottumwa Public Library. Ask at the Circulation desk for this month’s selection or call 641-682-7563.
URL:https://ottumwapubliclibrary.org/event/readers-ink-book-club-32/
END:VEVENT
BEGIN:VEVENT
DTSTART;TZID=America/Chicago:20271210T100000
DTEND;TZID=America/Chicago:20271210T110000
DTSTAMP:20260421T054729
CREATED:20260417T160421Z
LAST-MODIFIED:20260421T103406Z
UID:33245-1828432800-1828436400@ottumwapubliclibrary.org
SUMMARY:Preschool Storytime
DESCRIPTION:Join us for storytime where we’ll be reading stories\, singing\, rhyming\, and doing a craft. This storytime is aimed at children aged 3-5 but older or younger children are welcome.
URL:https://ottumwapubliclibrary.org/event/preschool-storytime-127/
END:VEVENT
BEGIN:VEVENT
DTSTART;TZID=America/Chicago:20271213T170000
DTEND;TZID=America/Chicago:20271213T180000
DTSTAMP:20260421T054729
CREATED:20260418T163546Z
LAST-MODIFIED:20260421T103406Z
UID:33346-1828717200-1828720800@ottumwapubliclibrary.org
SUMMARY:Library Board Meeting
DESCRIPTION:The monthly meeting of the Ottumwa Public Library’s board.
URL:https://ottumwapubliclibrary.org/event/library-board-meeting-53/
LOCATION:Meeting Room
END:VEVENT
BEGIN:VEVENT
DTSTART;TZID=America/Chicago:20271215T100000
DTEND;TZID=America/Chicago:20271215T110000
DTSTAMP:20260421T054729
CREATED:20260420T163403Z
LAST-MODIFIED:20260421T103406Z
UID:33541-1828864800-1828868400@ottumwapubliclibrary.org
SUMMARY:Songs and Stories
DESCRIPTION:Join us every Wednesday at 10:00AM for songs\, rhymes\, singing and dancing! This storytime is aimed at kids 0-4 with a caregiver\, but all children are welcome.
URL:https://ottumwapubliclibrary.org/event/songs-and-stories-237/
END:VEVENT
END:VCALENDAR