BEGIN:VCALENDAR
VERSION:2.0
PRODID:-//Ottumwa Public Library - ECPv6.15.20//NONSGML v1.0//EN
CALSCALE:GREGORIAN
METHOD:PUBLISH
X-ORIGINAL-URL:https://ottumwapubliclibrary.org
X-WR-CALDESC:Events for Ottumwa Public Library
REFRESH-INTERVAL;VALUE=DURATION:PT1H
X-Robots-Tag:noindex
X-PUBLISHED-TTL:PT1H
BEGIN:VTIMEZONE
TZID:America/Chicago
BEGIN:DAYLIGHT
TZOFFSETFROM:-0600
TZOFFSETTO:-0500
TZNAME:CDT
DTSTART:20250309T080000
END:DAYLIGHT
BEGIN:STANDARD
TZOFFSETFROM:-0500
TZOFFSETTO:-0600
TZNAME:CST
DTSTART:20251102T070000
END:STANDARD
BEGIN:DAYLIGHT
TZOFFSETFROM:-0600
TZOFFSETTO:-0500
TZNAME:CDT
DTSTART:20260308T080000
END:DAYLIGHT
BEGIN:STANDARD
TZOFFSETFROM:-0500
TZOFFSETTO:-0600
TZNAME:CST
DTSTART:20261101T070000
END:STANDARD
BEGIN:DAYLIGHT
TZOFFSETFROM:-0600
TZOFFSETTO:-0500
TZNAME:CDT
DTSTART:20270314T080000
END:DAYLIGHT
BEGIN:STANDARD
TZOFFSETFROM:-0500
TZOFFSETTO:-0600
TZNAME:CST
DTSTART:20271107T070000
END:STANDARD
END:VTIMEZONE
BEGIN:VEVENT
DTSTART;TZID=America/Chicago:20260318T100000
DTEND;TZID=America/Chicago:20260318T110000
DTSTAMP:20260419T075444
CREATED:20250727T053559Z
LAST-MODIFIED:20260318T154905Z
UID:25341-1773828000-1773831600@ottumwapubliclibrary.org
SUMMARY:Songs and Stories
DESCRIPTION:Join us every Wednesday at 10:00AM for songs\, rhymes\, singing and dancing! This storytime is aimed at kids 0-4 with a caregiver\, but all children are welcome.
URL:https://ottumwapubliclibrary.org/event/songs-and-stories-205/
END:VEVENT
BEGIN:VEVENT
DTSTART;TZID=America/Chicago:20260318T130000
DTEND;TZID=America/Chicago:20260318T170000
DTSTAMP:20260419T075444
CREATED:20250811T154904Z
LAST-MODIFIED:20260318T214840Z
UID:25746-1773838800-1773853200@ottumwapubliclibrary.org
SUMMARY:Drop in Kids Science Club
DESCRIPTION:This month\, drop in for Science Club anytime from 1pm-5pm.  We will have multiple science experiments and demonstrations for kids to enjoy!  Marble runs\, paper airplanes\, and more!  Don’t miss out!  Open to all kids with an interest in science\, no registration required.
URL:https://ottumwapubliclibrary.org/event/kids-science-club-16/
END:VEVENT
END:VCALENDAR