BEGIN:VCALENDAR
VERSION:2.0
PRODID:-//Ottumwa Public Library - ECPv6.15.20//NONSGML v1.0//EN
CALSCALE:GREGORIAN
METHOD:PUBLISH
X-ORIGINAL-URL:https://ottumwapubliclibrary.org
X-WR-CALDESC:Events for Ottumwa Public Library
REFRESH-INTERVAL;VALUE=DURATION:PT1H
X-Robots-Tag:noindex
X-PUBLISHED-TTL:PT1H
BEGIN:VTIMEZONE
TZID:America/Chicago
BEGIN:DAYLIGHT
TZOFFSETFROM:-0600
TZOFFSETTO:-0500
TZNAME:CDT
DTSTART:20240310T080000
END:DAYLIGHT
BEGIN:STANDARD
TZOFFSETFROM:-0500
TZOFFSETTO:-0600
TZNAME:CST
DTSTART:20241103T070000
END:STANDARD
BEGIN:DAYLIGHT
TZOFFSETFROM:-0600
TZOFFSETTO:-0500
TZNAME:CDT
DTSTART:20250309T080000
END:DAYLIGHT
BEGIN:STANDARD
TZOFFSETFROM:-0500
TZOFFSETTO:-0600
TZNAME:CST
DTSTART:20251102T070000
END:STANDARD
BEGIN:DAYLIGHT
TZOFFSETFROM:-0600
TZOFFSETTO:-0500
TZNAME:CDT
DTSTART:20260308T080000
END:DAYLIGHT
BEGIN:STANDARD
TZOFFSETFROM:-0500
TZOFFSETTO:-0600
TZNAME:CST
DTSTART:20261101T070000
END:STANDARD
END:VTIMEZONE
BEGIN:VEVENT
DTSTART;TZID=America/Chicago:20250528T100000
DTEND;TZID=America/Chicago:20250528T110000
DTSTAMP:20260422T093828
CREATED:20240209T161859Z
LAST-MODIFIED:20250427T043415Z
UID:8940-1748426400-1748430000@ottumwapubliclibrary.org
SUMMARY:Songs and Stories
DESCRIPTION:Join us every Wednesday at 10:00AM for songs\, rhymes\, singing and dancing! This storytime is aimed at kids 0-4 with a caregiver\, but all children are welcome.
URL:https://ottumwapubliclibrary.org/event/songs-and-stories-66/
END:VEVENT
BEGIN:VEVENT
DTSTART;TZID=America/Chicago:20250528T160000
DTEND;TZID=America/Chicago:20250528T170000
DTSTAMP:20260422T093828
CREATED:20240823T191935Z
LAST-MODIFIED:20250427T043415Z
UID:14416-1748448000-1748451600@ottumwapubliclibrary.org
SUMMARY:Science Club
DESCRIPTION:Kids!  Join us for science club at the library.  We’ll be doing a different STEAM activity or two every month during the school year!
URL:https://ottumwapubliclibrary.org/event/science-club-9/
END:VEVENT
END:VCALENDAR