BEGIN:VCALENDAR
VERSION:2.0
PRODID:-//Ottumwa Public Library - ECPv6.15.20//NONSGML v1.0//EN
CALSCALE:GREGORIAN
METHOD:PUBLISH
X-ORIGINAL-URL:https://ottumwapubliclibrary.org
X-WR-CALDESC:Events for Ottumwa Public Library
REFRESH-INTERVAL;VALUE=DURATION:PT1H
X-Robots-Tag:noindex
X-PUBLISHED-TTL:PT1H
BEGIN:VTIMEZONE
TZID:America/Chicago
BEGIN:DAYLIGHT
TZOFFSETFROM:-0600
TZOFFSETTO:-0500
TZNAME:CDT
DTSTART:20240310T080000
END:DAYLIGHT
BEGIN:STANDARD
TZOFFSETFROM:-0500
TZOFFSETTO:-0600
TZNAME:CST
DTSTART:20241103T070000
END:STANDARD
BEGIN:DAYLIGHT
TZOFFSETFROM:-0600
TZOFFSETTO:-0500
TZNAME:CDT
DTSTART:20250309T080000
END:DAYLIGHT
BEGIN:STANDARD
TZOFFSETFROM:-0500
TZOFFSETTO:-0600
TZNAME:CST
DTSTART:20251102T070000
END:STANDARD
BEGIN:DAYLIGHT
TZOFFSETFROM:-0600
TZOFFSETTO:-0500
TZNAME:CDT
DTSTART:20260308T080000
END:DAYLIGHT
BEGIN:STANDARD
TZOFFSETFROM:-0500
TZOFFSETTO:-0600
TZNAME:CST
DTSTART:20261101T070000
END:STANDARD
END:VTIMEZONE
BEGIN:VEVENT
DTSTART;TZID=America/Chicago:20250408T130000
DTEND;TZID=America/Chicago:20250408T140000
DTSTAMP:20260423T114215
CREATED:20250227T153342Z
LAST-MODIFIED:20250408T183412Z
UID:19522-1744117200-1744120800@ottumwapubliclibrary.org
SUMMARY:Online Author Talk: Matthew Fleming
DESCRIPTION:Join us as Smithsonian Horticulturalist Matthew Fleming\, guides us through the secret world of trees as is revealed in the beautiful and absorbing guide to the giants of the plant world—The Tree Book: The Stories\, Science\, and History of Trees. \nLog in to join at: https://libraryc.org/ottumwapubliclibrary/upcoming
URL:https://ottumwapubliclibrary.org/event/online-author-talk-matthew-fleming/
END:VEVENT
BEGIN:VEVENT
DTSTART;TZID=America/Chicago:20250408T171500
DTEND;TZID=America/Chicago:20250408T180000
DTSTAMP:20260423T114215
CREATED:20240816T213959Z
LAST-MODIFIED:20250408T223344Z
UID:14231-1744132500-1744135200@ottumwapubliclibrary.org
SUMMARY:Snacks in the Stacks
DESCRIPTION:Join us in the meeting room for some snacks\, then listen to the first chapter (or two) of a book and take a copy home to keep! Registration not required\, limit one book per family\, books available while supplies last.
URL:https://ottumwapubliclibrary.org/event/snacks-in-the-stacks-18/
END:VEVENT
END:VCALENDAR