BEGIN:VCALENDAR
VERSION:2.0
PRODID:-//Ottumwa Public Library - ECPv6.15.20//NONSGML v1.0//EN
CALSCALE:GREGORIAN
METHOD:PUBLISH
X-ORIGINAL-URL:https://ottumwapubliclibrary.org
X-WR-CALDESC:Events for Ottumwa Public Library
REFRESH-INTERVAL;VALUE=DURATION:PT1H
X-Robots-Tag:noindex
X-PUBLISHED-TTL:PT1H
BEGIN:VTIMEZONE
TZID:America/Chicago
BEGIN:DAYLIGHT
TZOFFSETFROM:-0600
TZOFFSETTO:-0500
TZNAME:CDT
DTSTART:20240310T080000
END:DAYLIGHT
BEGIN:STANDARD
TZOFFSETFROM:-0500
TZOFFSETTO:-0600
TZNAME:CST
DTSTART:20241103T070000
END:STANDARD
BEGIN:DAYLIGHT
TZOFFSETFROM:-0600
TZOFFSETTO:-0500
TZNAME:CDT
DTSTART:20250309T080000
END:DAYLIGHT
BEGIN:STANDARD
TZOFFSETFROM:-0500
TZOFFSETTO:-0600
TZNAME:CST
DTSTART:20251102T070000
END:STANDARD
BEGIN:DAYLIGHT
TZOFFSETFROM:-0600
TZOFFSETTO:-0500
TZNAME:CDT
DTSTART:20260308T080000
END:DAYLIGHT
BEGIN:STANDARD
TZOFFSETFROM:-0500
TZOFFSETTO:-0600
TZNAME:CST
DTSTART:20261101T070000
END:STANDARD
END:VTIMEZONE
BEGIN:VEVENT
DTSTART;VALUE=DATE:20250226
DTEND;VALUE=DATE:20250227
DTSTAMP:20260425T102656
CREATED:20231215T234910Z
LAST-MODIFIED:20250226T230436Z
UID:7660-1740528000-1740614399@ottumwapubliclibrary.org
SUMMARY:Adult Take & Make Craft Giveaway
DESCRIPTION:Our next Adult Take and Make Craft give away is today! Drop by anytime today to pick up a craft bag kit\, limit two per patron while supplies last.
URL:https://ottumwapubliclibrary.org/event/adult-take-make-craft-giveaway-48/
END:VEVENT
BEGIN:VEVENT
DTSTART;VALUE=DATE:20250226
DTEND;VALUE=DATE:20250227
DTSTAMP:20260425T102656
CREATED:20241226T180402Z
LAST-MODIFIED:20250226T230436Z
UID:17926-1740528000-1740614399@ottumwapubliclibrary.org
SUMMARY:Kids Grab and Go Craft Bags
DESCRIPTION:Kids! Join us for another grab and go craft bag event. Stop by the children’s desks to pick up a craft bag.  No registration required\, craft bags are available while supplies last.
URL:https://ottumwapubliclibrary.org/event/kids-grab-and-go-craft-bags-18/
END:VEVENT
BEGIN:VEVENT
DTSTART;TZID=America/Chicago:20250226T100000
DTEND;TZID=America/Chicago:20250226T110000
DTSTAMP:20260425T102656
CREATED:20231215T234910Z
LAST-MODIFIED:20250226T164840Z
UID:7658-1740564000-1740567600@ottumwapubliclibrary.org
SUMMARY:Songs and Stories
DESCRIPTION:Join us every Wednesday at 10:00AM for songs\, rhymes\, singing and dancing! This storytime is aimed at kids 0-4 with a caregiver\, but all children are welcome.
URL:https://ottumwapubliclibrary.org/event/songs-and-stories-53/
END:VEVENT
BEGIN:VEVENT
DTSTART;TZID=America/Chicago:20250226T160000
DTEND;TZID=America/Chicago:20250226T170000
DTSTAMP:20260425T102656
CREATED:20240823T191930Z
LAST-MODIFIED:20250226T214928Z
UID:14413-1740585600-1740589200@ottumwapubliclibrary.org
SUMMARY:Science Club
DESCRIPTION:Kids!  Join us for science club at the library.  We’ll be doing a different STEAM activity or two every month during the school year!
URL:https://ottumwapubliclibrary.org/event/science-club-6/
END:VEVENT
END:VCALENDAR