BEGIN:VCALENDAR
VERSION:2.0
PRODID:-//Ottumwa Public Library - ECPv6.15.20//NONSGML v1.0//EN
CALSCALE:GREGORIAN
METHOD:PUBLISH
X-ORIGINAL-URL:https://ottumwapubliclibrary.org
X-WR-CALDESC:Events for Ottumwa Public Library
REFRESH-INTERVAL;VALUE=DURATION:PT1H
X-Robots-Tag:noindex
X-PUBLISHED-TTL:PT1H
BEGIN:VTIMEZONE
TZID:America/Chicago
BEGIN:DAYLIGHT
TZOFFSETFROM:-0600
TZOFFSETTO:-0500
TZNAME:CDT
DTSTART:20240310T080000
END:DAYLIGHT
BEGIN:STANDARD
TZOFFSETFROM:-0500
TZOFFSETTO:-0600
TZNAME:CST
DTSTART:20241103T070000
END:STANDARD
BEGIN:DAYLIGHT
TZOFFSETFROM:-0600
TZOFFSETTO:-0500
TZNAME:CDT
DTSTART:20250309T080000
END:DAYLIGHT
BEGIN:STANDARD
TZOFFSETFROM:-0500
TZOFFSETTO:-0600
TZNAME:CST
DTSTART:20251102T070000
END:STANDARD
BEGIN:DAYLIGHT
TZOFFSETFROM:-0600
TZOFFSETTO:-0500
TZNAME:CDT
DTSTART:20260308T080000
END:DAYLIGHT
BEGIN:STANDARD
TZOFFSETFROM:-0500
TZOFFSETTO:-0600
TZNAME:CST
DTSTART:20261101T070000
END:STANDARD
END:VTIMEZONE
BEGIN:VEVENT
DTSTART;TZID=America/Chicago:20250225T100000
DTEND;TZID=America/Chicago:20250225T110000
DTSTAMP:20260425T114543
CREATED:20250121T150332Z
LAST-MODIFIED:20250225T163359Z
UID:18576-1740477600-1740481200@ottumwapubliclibrary.org
SUMMARY:Reminisce Society: Tom Milligan
DESCRIPTION:Join us Tuesday February 25th at 10 am for our next Reminisce Society Meeting. This month we will enjoy the program “American Dreamer: The Life and Times of Henry A. Wallace” presented by Tom Milligan with Humanities Iowa.  \nThese programs are free and open to the public for questions or to be added to the Zoom list call us at641-682-7563 or email Director Sonja Ferrell atsferrell@ottumwapubliclibrary.org.
URL:https://ottumwapubliclibrary.org/event/reminisce-society-tom-milligan/
END:VEVENT
END:VCALENDAR