BEGIN:VCALENDAR
VERSION:2.0
PRODID:-//Ottumwa Public Library - ECPv6.15.20//NONSGML v1.0//EN
CALSCALE:GREGORIAN
METHOD:PUBLISH
X-ORIGINAL-URL:https://ottumwapubliclibrary.org
X-WR-CALDESC:Events for Ottumwa Public Library
REFRESH-INTERVAL;VALUE=DURATION:PT1H
X-Robots-Tag:noindex
X-PUBLISHED-TTL:PT1H
BEGIN:VTIMEZONE
TZID:America/Chicago
BEGIN:DAYLIGHT
TZOFFSETFROM:-0600
TZOFFSETTO:-0500
TZNAME:CDT
DTSTART:20230312T080000
END:DAYLIGHT
BEGIN:STANDARD
TZOFFSETFROM:-0500
TZOFFSETTO:-0600
TZNAME:CST
DTSTART:20231105T070000
END:STANDARD
BEGIN:DAYLIGHT
TZOFFSETFROM:-0600
TZOFFSETTO:-0500
TZNAME:CDT
DTSTART:20240310T080000
END:DAYLIGHT
BEGIN:STANDARD
TZOFFSETFROM:-0500
TZOFFSETTO:-0600
TZNAME:CST
DTSTART:20241103T070000
END:STANDARD
BEGIN:DAYLIGHT
TZOFFSETFROM:-0600
TZOFFSETTO:-0500
TZNAME:CDT
DTSTART:20250309T080000
END:DAYLIGHT
BEGIN:STANDARD
TZOFFSETFROM:-0500
TZOFFSETTO:-0600
TZNAME:CST
DTSTART:20251102T070000
END:STANDARD
END:VTIMEZONE
BEGIN:VEVENT
DTSTART;TZID=America/Chicago:20241025T090000
DTEND;TZID=America/Chicago:20241025T100000
DTSTAMP:20260423T201449
CREATED:20230915T161102Z
LAST-MODIFIED:20241025T140444Z
UID:5273-1729846800-1729850400@ottumwapubliclibrary.org
SUMMARY:Preschool Storytime
DESCRIPTION:Join us for storytime where we’ll be reading stories\, singing\, rhyming\, and doing a craft. This storytime is aimed at children aged 3-5 but older or younger children are welcome.
URL:https://ottumwapubliclibrary.org/event/preschool-storytime-74/
END:VEVENT
BEGIN:VEVENT
DTSTART;TZID=America/Chicago:20241025T140000
DTEND;TZID=America/Chicago:20241025T150000
DTSTAMP:20260423T201449
CREATED:20240927T205025Z
LAST-MODIFIED:20241025T194900Z
UID:15839-1729864800-1729868400@ottumwapubliclibrary.org
SUMMARY:Kids Escape Room
DESCRIPTION:Kids are welcome to join us for an escape room.  Call 641-682-7563\, ext. 210 to sign up\, or email Sam at skeith@ottumwapubliclibrary.org.  Registration is required\, limited spots available; children may bring an adult.  Be ready to solve puzzles and make your escape!
URL:https://ottumwapubliclibrary.org/event/kids-escape-room/
END:VEVENT
BEGIN:VEVENT
DTSTART;TZID=America/Chicago:20241025T160000
DTEND;TZID=America/Chicago:20241025T170000
DTSTAMP:20260423T201449
CREATED:20240927T205025Z
LAST-MODIFIED:20241025T215529Z
UID:15840-1729872000-1729875600@ottumwapubliclibrary.org
SUMMARY:Teen Escape Room
DESCRIPTION:Teens are welcome to join us for an escape room.  Call 641-682-7563\, ext. 210 to sign up\, or email Sam at skeith@ottumwapubliclibrary.org.  Registration is required\, limited spots available.  Be ready to solve puzzles and make your escape!
URL:https://ottumwapubliclibrary.org/event/teen-escape-room-2/
END:VEVENT
BEGIN:VEVENT
DTSTART;TZID=America/Chicago:20241025T180000
DTEND;TZID=America/Chicago:20241025T190000
DTSTAMP:20260423T201449
CREATED:20240927T215039Z
LAST-MODIFIED:20241025T230850Z
UID:15842-1729879200-1729882800@ottumwapubliclibrary.org
SUMMARY:Adult Escape Room
DESCRIPTION:Attempt to escape the library! Call 641-682-7563\, ext. 205 to sign up\, or email amanning@ottumwapubliclibrary.org to sign up. Patrons can sign up in groups of 4-6 or individually to be assigned a group. Registration is required\, limited spots available.  Be ready to solve puzzles and make your escape!
URL:https://ottumwapubliclibrary.org/event/adult-escape-room/
END:VEVENT
END:VCALENDAR