BEGIN:VCALENDAR
VERSION:2.0
PRODID:-//Ottumwa Public Library - ECPv6.15.20//NONSGML v1.0//EN
CALSCALE:GREGORIAN
METHOD:PUBLISH
X-WR-CALNAME:Ottumwa Public Library
X-ORIGINAL-URL:https://ottumwapubliclibrary.org
X-WR-CALDESC:Events for Ottumwa Public Library
REFRESH-INTERVAL;VALUE=DURATION:PT1H
X-Robots-Tag:noindex
X-PUBLISHED-TTL:PT1H
BEGIN:VTIMEZONE
TZID:America/Chicago
BEGIN:DAYLIGHT
TZOFFSETFROM:-0600
TZOFFSETTO:-0500
TZNAME:CDT
DTSTART:20230312T080000
END:DAYLIGHT
BEGIN:STANDARD
TZOFFSETFROM:-0500
TZOFFSETTO:-0600
TZNAME:CST
DTSTART:20231105T070000
END:STANDARD
BEGIN:DAYLIGHT
TZOFFSETFROM:-0600
TZOFFSETTO:-0500
TZNAME:CDT
DTSTART:20240310T080000
END:DAYLIGHT
BEGIN:STANDARD
TZOFFSETFROM:-0500
TZOFFSETTO:-0600
TZNAME:CST
DTSTART:20241103T070000
END:STANDARD
BEGIN:DAYLIGHT
TZOFFSETFROM:-0600
TZOFFSETTO:-0500
TZNAME:CDT
DTSTART:20250309T080000
END:DAYLIGHT
BEGIN:STANDARD
TZOFFSETFROM:-0500
TZOFFSETTO:-0600
TZNAME:CST
DTSTART:20251102T070000
END:STANDARD
END:VTIMEZONE
BEGIN:VEVENT
DTSTART;TZID=America/Chicago:20241004T090000
DTEND;TZID=America/Chicago:20241004T100000
DTSTAMP:20260421T121655
CREATED:20230831T001954Z
LAST-MODIFIED:20241004T144853Z
UID:4889-1728032400-1728036000@ottumwapubliclibrary.org
SUMMARY:Preschool Storytime
DESCRIPTION:Join us for storytime where we’ll be reading stories\, singing\, rhyming\, and doing a craft. This storytime is aimed at children aged 3-5 but older or younger children are welcome.
URL:https://ottumwapubliclibrary.org/event/preschool-storytime-71/
END:VEVENT
BEGIN:VEVENT
DTSTART;TZID=America/Chicago:20241004T140000
DTEND;TZID=America/Chicago:20241004T160000
DTSTAMP:20260421T121655
CREATED:20230901T000403Z
LAST-MODIFIED:20241004T200349Z
UID:4919-1728050400-1728057600@ottumwapubliclibrary.org
SUMMARY:Teen Anime/Manga Club
DESCRIPTION:Join us in the OPL meeting room for all things anime and manga!
URL:https://ottumwapubliclibrary.org/event/teen-anime-manga-club-18/
END:VEVENT
END:VCALENDAR