BEGIN:VCALENDAR
VERSION:2.0
PRODID:-//Ottumwa Public Library - ECPv6.15.20//NONSGML v1.0//EN
CALSCALE:GREGORIAN
METHOD:PUBLISH
X-WR-CALNAME:Ottumwa Public Library
X-ORIGINAL-URL:https://ottumwapubliclibrary.org
X-WR-CALDESC:Events for Ottumwa Public Library
REFRESH-INTERVAL;VALUE=DURATION:PT1H
X-Robots-Tag:noindex
X-PUBLISHED-TTL:PT1H
BEGIN:VTIMEZONE
TZID:America/Chicago
BEGIN:DAYLIGHT
TZOFFSETFROM:-0600
TZOFFSETTO:-0500
TZNAME:CDT
DTSTART:20230312T080000
END:DAYLIGHT
BEGIN:STANDARD
TZOFFSETFROM:-0500
TZOFFSETTO:-0600
TZNAME:CST
DTSTART:20231105T070000
END:STANDARD
BEGIN:DAYLIGHT
TZOFFSETFROM:-0600
TZOFFSETTO:-0500
TZNAME:CDT
DTSTART:20240310T080000
END:DAYLIGHT
BEGIN:STANDARD
TZOFFSETFROM:-0500
TZOFFSETTO:-0600
TZNAME:CST
DTSTART:20241103T070000
END:STANDARD
BEGIN:DAYLIGHT
TZOFFSETFROM:-0600
TZOFFSETTO:-0500
TZNAME:CDT
DTSTART:20250309T080000
END:DAYLIGHT
BEGIN:STANDARD
TZOFFSETFROM:-0500
TZOFFSETTO:-0600
TZNAME:CST
DTSTART:20251102T070000
END:STANDARD
END:VTIMEZONE
BEGIN:VEVENT
DTSTART;TZID=America/Chicago:20240501T100000
DTEND;TZID=America/Chicago:20240501T110000
DTSTAMP:20260423T190543
CREATED:20230601T150351Z
LAST-MODIFIED:20240501T155006Z
UID:1680-1714557600-1714561200@ottumwapubliclibrary.org
SUMMARY:Songs and Stories
DESCRIPTION:Join us every Wednesday at 10:00AM for songs\, rhymes\, singing and dancing! This storytime is aimed at kids 0-4 with a caregiver\, but all children are welcome.
URL:https://ottumwapubliclibrary.org/event/songs-and-stories-120/
END:VEVENT
BEGIN:VEVENT
DTSTART;TZID=America/Chicago:20240501T140000
DTEND;TZID=America/Chicago:20240501T150000
DTSTAMP:20260423T190543
CREATED:20240325T180337Z
LAST-MODIFIED:20240501T194911Z
UID:10147-1714572000-1714575600@ottumwapubliclibrary.org
SUMMARY:Online Author Talk: Douglas Brunt
DESCRIPTION:Join us as we chat with New York Times bestselling author\, Douglas Brunt\, about instant bestselling debut non-fiction work The Mysterious Case of Rudolf Diesel: Genius\, Power\, and Deception on the Eve of World War I. This book reveals the hidden history of Rudolf Diesel\, one of the world’s greatest inventors\, and his mysterious disappearance on the eve of World War I. Log in to join at:https://libraryc.org/ottumwapubliclibrary/upcoming
URL:https://ottumwapubliclibrary.org/event/online-author-talk-douglas-brunt/
END:VEVENT
END:VCALENDAR