BEGIN:VCALENDAR
VERSION:2.0
PRODID:-//Ottumwa Public Library - ECPv6.15.20//NONSGML v1.0//EN
CALSCALE:GREGORIAN
METHOD:PUBLISH
X-ORIGINAL-URL:https://ottumwapubliclibrary.org
X-WR-CALDESC:Events for Ottumwa Public Library
REFRESH-INTERVAL;VALUE=DURATION:PT1H
X-Robots-Tag:noindex
X-PUBLISHED-TTL:PT1H
BEGIN:VTIMEZONE
TZID:America/Chicago
BEGIN:DAYLIGHT
TZOFFSETFROM:-0600
TZOFFSETTO:-0500
TZNAME:CDT
DTSTART:20230312T080000
END:DAYLIGHT
BEGIN:STANDARD
TZOFFSETFROM:-0500
TZOFFSETTO:-0600
TZNAME:CST
DTSTART:20231105T070000
END:STANDARD
BEGIN:DAYLIGHT
TZOFFSETFROM:-0600
TZOFFSETTO:-0500
TZNAME:CDT
DTSTART:20240310T080000
END:DAYLIGHT
BEGIN:STANDARD
TZOFFSETFROM:-0500
TZOFFSETTO:-0600
TZNAME:CST
DTSTART:20241103T070000
END:STANDARD
BEGIN:DAYLIGHT
TZOFFSETFROM:-0600
TZOFFSETTO:-0500
TZNAME:CDT
DTSTART:20250309T080000
END:DAYLIGHT
BEGIN:STANDARD
TZOFFSETFROM:-0500
TZOFFSETTO:-0600
TZNAME:CST
DTSTART:20251102T070000
END:STANDARD
END:VTIMEZONE
BEGIN:VEVENT
DTSTART;TZID=America/Chicago:20240227T100000
DTEND;TZID=America/Chicago:20240227T110000
DTSTAMP:20260423T142440
CREATED:20231228T214953Z
LAST-MODIFIED:20240227T161948Z
UID:7967-1709028000-1709031600@ottumwapubliclibrary.org
SUMMARY:Reminisce Society: Misbehaving Women of Iowa
DESCRIPTION:Our next Reminisce Society meeting will be on Tuesday\, February 27th! Join us at the Knights of Columbus Hall as we enjoy the program “Misbehaving Women of Iowa” presented by Cheryl Mullenbach.
URL:https://ottumwapubliclibrary.org/event/readers-ink-misbehaving-women-of-iowa/
LOCATION:Knights of Columbus\, 123 3rd St W\, Ottumwa\, IA 52501\, USA
END:VEVENT
BEGIN:VEVENT
DTSTART;TZID=America/Chicago:20240227T160000
DTEND;TZID=America/Chicago:20240227T170000
DTSTAMP:20260423T142440
CREATED:20240125T174844Z
LAST-MODIFIED:20240227T224854Z
UID:8533-1709049600-1709053200@ottumwapubliclibrary.org
SUMMARY:Cuentos Y Cantos
DESCRIPTION:Únase a nosotros para la hora del cuento en español donde leeremos cuentos\, cantaremos\, rimaremos y haremos manualidades. Esta hora del cuento está dirigida a niños de 1 a 5 años\, pero los niños mayores o más pequeños son bienvenidos. Join us for spanish storytime where we’ll be reading stories\, singing\, rhyming\, and doing a craft. This storytime is aimed at children aged 1-5 but older or younger children are welcome.
URL:https://ottumwapubliclibrary.org/event/cuentos-y-cantos-4/
END:VEVENT
END:VCALENDAR