BEGIN:VCALENDAR
VERSION:2.0
PRODID:-//Ottumwa Public Library - ECPv6.15.20//NONSGML v1.0//EN
CALSCALE:GREGORIAN
METHOD:PUBLISH
X-WR-CALNAME:Ottumwa Public Library
X-ORIGINAL-URL:https://ottumwapubliclibrary.org
X-WR-CALDESC:Events for Ottumwa Public Library
REFRESH-INTERVAL;VALUE=DURATION:PT1H
X-Robots-Tag:noindex
X-PUBLISHED-TTL:PT1H
BEGIN:VTIMEZONE
TZID:America/Chicago
BEGIN:DAYLIGHT
TZOFFSETFROM:-0600
TZOFFSETTO:-0500
TZNAME:CDT
DTSTART:20230312T080000
END:DAYLIGHT
BEGIN:STANDARD
TZOFFSETFROM:-0500
TZOFFSETTO:-0600
TZNAME:CST
DTSTART:20231105T070000
END:STANDARD
BEGIN:DAYLIGHT
TZOFFSETFROM:-0600
TZOFFSETTO:-0500
TZNAME:CDT
DTSTART:20240310T080000
END:DAYLIGHT
BEGIN:STANDARD
TZOFFSETFROM:-0500
TZOFFSETTO:-0600
TZNAME:CST
DTSTART:20241103T070000
END:STANDARD
BEGIN:DAYLIGHT
TZOFFSETFROM:-0600
TZOFFSETTO:-0500
TZNAME:CDT
DTSTART:20250309T080000
END:DAYLIGHT
BEGIN:STANDARD
TZOFFSETFROM:-0500
TZOFFSETTO:-0600
TZNAME:CST
DTSTART:20251102T070000
END:STANDARD
END:VTIMEZONE
BEGIN:VEVENT
DTSTART;TZID=America/Chicago:20240130T130000
DTEND;TZID=America/Chicago:20240130T140000
DTSTAMP:20260421T094548
CREATED:20231030T150341Z
LAST-MODIFIED:20240130T193419Z
UID:6421-1706619600-1706623200@ottumwapubliclibrary.org
SUMMARY:Online Author Talk: Dr. Robert Lustig
DESCRIPTION:Launch your New Year healthy with Dr. Robert Lustig\, a pediatric neuroendocrinologist who has long been on the cutting edge of medicine and science. He challenges our current healthcare paradigm which has gone off the rails under the influence of Big Food\, Big Pharma\, and Big Government. \nJoin us online at: https://libraryc.org/ottumwapubliclibrary/upcoming
URL:https://ottumwapubliclibrary.org/event/online-author-talk-dr-robert-lustig/
END:VEVENT
END:VCALENDAR