BEGIN:VCALENDAR
VERSION:2.0
PRODID:-//Ottumwa Public Library - ECPv6.15.20//NONSGML v1.0//EN
CALSCALE:GREGORIAN
METHOD:PUBLISH
X-WR-CALNAME:Ottumwa Public Library
X-ORIGINAL-URL:https://ottumwapubliclibrary.org
X-WR-CALDESC:Events for Ottumwa Public Library
REFRESH-INTERVAL;VALUE=DURATION:PT1H
X-Robots-Tag:noindex
X-PUBLISHED-TTL:PT1H
BEGIN:VTIMEZONE
TZID:America/Chicago
BEGIN:DAYLIGHT
TZOFFSETFROM:-0600
TZOFFSETTO:-0500
TZNAME:CDT
DTSTART:20220313T080000
END:DAYLIGHT
BEGIN:STANDARD
TZOFFSETFROM:-0500
TZOFFSETTO:-0600
TZNAME:CST
DTSTART:20221106T070000
END:STANDARD
BEGIN:DAYLIGHT
TZOFFSETFROM:-0600
TZOFFSETTO:-0500
TZNAME:CDT
DTSTART:20230312T080000
END:DAYLIGHT
BEGIN:STANDARD
TZOFFSETFROM:-0500
TZOFFSETTO:-0600
TZNAME:CST
DTSTART:20231105T070000
END:STANDARD
BEGIN:DAYLIGHT
TZOFFSETFROM:-0600
TZOFFSETTO:-0500
TZNAME:CDT
DTSTART:20240310T080000
END:DAYLIGHT
BEGIN:STANDARD
TZOFFSETFROM:-0500
TZOFFSETTO:-0600
TZNAME:CST
DTSTART:20241103T070000
END:STANDARD
END:VTIMEZONE
BEGIN:VEVENT
DTSTART;TZID=America/Chicago:20231018T100000
DTEND;TZID=America/Chicago:20231018T110000
DTSTAMP:20260425T151640
CREATED:20230601T150333Z
LAST-MODIFIED:20231018T150420Z
UID:1652-1697623200-1697626800@ottumwapubliclibrary.org
SUMMARY:Songs and Stories
DESCRIPTION:Join us every Wednesday at 10:00AM for songs\, rhymes\, singing and dancing! This storytime is aimed at kids 0-4 with a caregiver\, but all children are welcome.
URL:https://ottumwapubliclibrary.org/event/songs-and-stories-92/
END:VEVENT
BEGIN:VEVENT
DTSTART;TZID=America/Chicago:20231018T130000
DTEND;TZID=America/Chicago:20231018T140000
DTSTAMP:20260425T151640
CREATED:20230815T210322Z
LAST-MODIFIED:20231018T182001Z
UID:3768-1697634000-1697637600@ottumwapubliclibrary.org
SUMMARY:Online Author Talk: Ruth Ware
DESCRIPTION:You’re invited to tune in as we chat with New York Times bestselling author of The Woman in Cabin 10 and The It Girl as she talks about her newest book\, Zero Days. Join us online at https://libraryc.org/ottumwapubliclibrary on Wednesday October 18th at 1 pm!
URL:https://ottumwapubliclibrary.org/event/online-author-talk-ruth-ware/
END:VEVENT
END:VCALENDAR